BEGIN:VCALENDAR
VERSION:2.0
METHOD:PUBLISH
PRODID:-//UiO//VTK//NONSGML v1.0//NO
BEGIN:VEVENT
DTSTAMP:20220924T101931Z
UID:20220924T081931-01548124373@www.tf.uio.no
DTSTART:20201211T140000Z
DTEND:20201211T151500Z
LOCATION:Zoom-seminar
DESCRIPTION:Ancient Attraction is&#160;a&#160;Digital Lecture Series on Be
 auty, Attractiveness and Sex Appeal in the Ancient Mediterranean World Th
 e lecture: Colourful Beauties: What the polychromy of funerary portraits 
 can reveal about dress and appearance in ancient Palmyra is presented by 
 Dr. Cecilie Brøns, Ny Carlsberg Glyptotek, Copenhagen, Denmark
SUMMARY:Ancient Attraction: Colourful Beauties: What the polychromy of fun
 erary portraits can reveal about dress and appearance in ancient Palmyra
URL:https://www.tf.uio.no/english/research/groups/biblical-texts-cultures-
 receptions/events/2020/ancient-attraction/ancient-attraction-5.html
END:VEVENT
END:VCALENDAR