BEGIN:VCALENDAR
VERSION:2.0
METHOD:PUBLISH
PRODID:-//UiO//VTK//NONSGML v1.0//NO
BEGIN:VEVENT
DTSTAMP:20220924T101932Z
UID:20220924T081932-01576753524@www.tf.uio.no
DTSTART:20201127T140000Z
DTEND:20201127T151500Z
LOCATION:Zoom-seminar
DESCRIPTION:Ancient Attraction is&#160;a&#160;Digital Lecture Series on Be
 auty, Attractiveness and Sex Appeal in the Ancient Mediterranean World Th
 e lecture: Guests, Gods, Heroes and Heirarchs: The Fragrant Few of Mycena
 ean Pylos is presented by Dr. Mary Jane Cuyler, MF Norwegian School of Th
 eology, Religion and Society, Oslo, Norway
SUMMARY:Ancient Attraction: Guests, Gods, Heroes and Heirarchs: The Fragra
 nt Few of Mycenaean Pylos
URL:https://www.tf.uio.no/english/research/groups/biblical-texts-cultures-
 receptions/events/2020/ancient-attraction/ancient-attraction-4.html
END:VEVENT
END:VCALENDAR