BEGIN:VCALENDAR
VERSION:2.0
METHOD:PUBLISH
PRODID:-//UiO//VTK//NONSGML v1.0//NO
BEGIN:VEVENT
DTSTAMP:20220924T101930Z
UID:20220924T081930-01605382675@www.tf.uio.no
DTSTART:20201113T140000Z
DTEND:20201113T151500Z
LOCATION:Zoom-seminar
DESCRIPTION:Ancient Attraction is&#160;a&#160;Digital Lecture Series on Be
 auty, Attractiveness and Sex Appeal in the Ancient Mediterranean World Th
 e lecture: Masculinity and beauty in Mesopotamia is presented by Dr. Omar
  N’Shea, Senior Lecturer, University of Malta
SUMMARY:Ancient Attraction: Masculinity and beauty in Mesopotamia
URL:https://www.tf.uio.no/english/research/groups/biblical-texts-cultures-
 receptions/events/2020/ancient-attraction/ancient-attraction-3.html
END:VEVENT
END:VCALENDAR