BEGIN:VCALENDAR
VERSION:2.0
METHOD:PUBLISH
PRODID:-//UiO//VTK//NONSGML v1.0//NO
BEGIN:VEVENT
DTSTAMP:20220924T101932Z
UID:20220924T081932-01634011826@www.tf.uio.no
DTSTART:20201023T130000Z
DTEND:20201023T141500Z
LOCATION:Zoom-seminar
DESCRIPTION:Ancient Attraction is&#160;a&#160;Digital Lecture Series on Be
 auty, Attractiveness and Sex Appeal in the Ancient Mediterranean World Th
 e lecture: Gender and Beauty in the Hebrew Bible is presented by Dr. Hann
 a Tervanotko, McMaster University, Canada
SUMMARY:Ancient Attraction: Gender and Beauty in the Hebrew Bible
URL:https://www.tf.uio.no/english/research/groups/biblical-texts-cultures-
 receptions/events/2020/ancient-attraction/ancient-attraction-2.html
END:VEVENT
END:VCALENDAR