BEGIN:VCALENDAR
VERSION:2.0
METHOD:PUBLISH
PRODID:-//UiO//VTK//NONSGML v1.0//NO
BEGIN:VEVENT
DTSTAMP:20220924T101932Z
UID:20220924T081932-01662640977@www.tf.uio.no
DTSTART:20201009T130000Z
DTEND:20201009T141500Z
LOCATION:Zoom-seminar
DESCRIPTION:Ancient Attraction is&#160;a&#160;Digital Lecture Series on Be
 auty, Attractiveness and Sex Appeal in the Ancient Mediterranean World.  
 The lecture: Goddesses as Exemplars for the Beauty and Power of Neo-Assyr
 ian Queens is presented by Dr. Amy Gansell, St. John’s University, New Yo
 rk City, USA
SUMMARY:Ancient Attraction: Goddesses as Exemplars for the Beauty and Powe
 r of Neo-Assyrian Queens
URL:https://www.tf.uio.no/english/research/groups/biblical-texts-cultures-
 receptions/events/2020/ancient-attraction/ancient-attraction-1.html
END:VEVENT
END:VCALENDAR